BEGIN:VCALENDAR
VERSION:2.0
PRODID:-//Volunteer - ECPv6.5.0//NONSGML v1.0//EN
CALSCALE:GREGORIAN
METHOD:PUBLISH
X-ORIGINAL-URL:https://fastwpdemo.com/demo/volunteer
X-WR-CALDESC:Events for Volunteer
REFRESH-INTERVAL;VALUE=DURATION:PT1H
X-Robots-Tag:noindex
X-PUBLISHED-TTL:PT1H
BEGIN:VTIMEZONE
TZID:UTC
BEGIN:STANDARD
TZOFFSETFROM:+0000
TZOFFSETTO:+0000
TZNAME:UTC
DTSTART:20230101T000000
END:STANDARD
END:VTIMEZONE
BEGIN:VEVENT
DTSTART;TZID=UTC:20230223T080000
DTEND;TZID=UTC:20230223T170000
DTSTAMP:20260425T141825
CREATED:20220409T111440Z
LAST-MODIFIED:20230208T103753Z
UID:920-1677139200-1677171600@fastwpdemo.com
SUMMARY:helping Asian Street Peoples
DESCRIPTION:When you’re helping a street person\, you’re also helping a community. And that’s a really cool thing to do. By helping them\, you’re also helping yourself. You’re taking the measure of them\, understanding their needs\, and developing a relationship with them. It’s the kind of relationship that lasts longer than just working as a helpmate. It’s also hard work\, because it’s constantly hard. And it’s worth it\, because you’re helping other people as much as you’re helping yourself.\nHomeless asian street peoples are a problem in many cities around the world. They are difficult to identify\, and many people don’t know how to help them. So\, we’re here to help.\nWe are creative and passionate about this mission\, and our goal is to help asian street peoples find their place in the world. We work with organizations like Cascading Souls to provide support and guidance\, and we are currently working with several cities to create a program that will provide homeless asian street peoples with access to education\, housing\, and support systems. We believe that this is the best way to help them learn and grow\, and we’re working hard to make this a reality.
URL:https://fastwpdemo.com/demo/volunteer/event/helping-asian-street-peoples/
CATEGORIES:Our Events
ATTACH;FMTTYPE=image/jpeg:https://fastwpdemo.com/demo/volunteer/wp-content/uploads/2022/03/news-23.jpg
END:VEVENT
END:VCALENDAR