BEGIN:VCALENDAR
VERSION:2.0
PRODID:-//Volunteer - ECPv6.5.0//NONSGML v1.0//EN
CALSCALE:GREGORIAN
METHOD:PUBLISH
X-WR-CALNAME:Volunteer
X-ORIGINAL-URL:https://fastwpdemo.com/demo/volunteer
X-WR-CALDESC:Events for Volunteer
REFRESH-INTERVAL;VALUE=DURATION:PT1H
X-Robots-Tag:noindex
X-PUBLISHED-TTL:PT1H
BEGIN:VTIMEZONE
TZID:UTC
BEGIN:STANDARD
TZOFFSETFROM:+0000
TZOFFSETTO:+0000
TZNAME:UTC
DTSTART:20230101T000000
END:STANDARD
END:VTIMEZONE
BEGIN:VEVENT
DTSTART;TZID=UTC:20230219T080000
DTEND;TZID=UTC:20230219T170000
DTSTAMP:20260425T103759
CREATED:20220409T111510Z
LAST-MODIFIED:20230208T103818Z
UID:923-1676793600-1676826000@fastwpdemo.com
SUMMARY:Helping Asian Peoples
DESCRIPTION:There are many people in the world who want to help asian peoples. However\, many people don’t know how to do it. They might think it’s difficult or it’s dangerous. They could also think that it’s better not to help because it might get in the way of their own lives. But it’s not just about helping – it’s about being there and being part of the solution. What better way to help than to live in the moment and be a part of the solution? \nSome people are like-minded and want to help in a variety of ways. They might help with things like helping the needy\, providing food\, water\, or shelter; or they might work on projects with the aim of making the world a better place. Others are more specific in their goals and work with a variety of organizations to achieve them. Still\, many people think that helping only comes from their personal life and is not something that’s best for the world. \nThe important thing is to get started. It’s important to be proactive and start helping in some way that is effective and safe. Some ways to start are by providing support through activities like cooking meals for the elderly\, helping with events or causes\, or working on a project with another person. Additionally\, it’s important to be there as part of the solution – not just a member of the solution. When you’re working on projects that improve the world\, you’re doing what is necessary for the future of the world.
URL:https://fastwpdemo.com/demo/volunteer/event/helping-asian-peoples/
CATEGORIES:Our Events
ATTACH;FMTTYPE=image/jpeg:https://fastwpdemo.com/demo/volunteer/wp-content/uploads/2022/03/news-22.jpg
END:VEVENT
END:VCALENDAR