BEGIN:VCALENDAR
VERSION:2.0
PRODID:-//Volunteer - ECPv6.5.0//NONSGML v1.0//EN
CALSCALE:GREGORIAN
METHOD:PUBLISH
X-WR-CALNAME:Volunteer
X-ORIGINAL-URL:https://fastwpdemo.com/demo/volunteer
X-WR-CALDESC:Events for Volunteer
REFRESH-INTERVAL;VALUE=DURATION:PT1H
X-Robots-Tag:noindex
X-PUBLISHED-TTL:PT1H
BEGIN:VTIMEZONE
TZID:UTC
BEGIN:STANDARD
TZOFFSETFROM:+0000
TZOFFSETTO:+0000
TZNAME:UTC
DTSTART:20230101T000000
END:STANDARD
END:VTIMEZONE
BEGIN:VEVENT
DTSTART;TZID=UTC:20230105T080000
DTEND;TZID=UTC:20230105T170000
DTSTAMP:20260425T120658
CREATED:20220409T111219Z
LAST-MODIFIED:20230208T103503Z
UID:912-1672905600-1672938000@fastwpdemo.com
SUMMARY:Fund Rising event together
DESCRIPTION:The Fund Rising event is an annual event that provides a platform for startups to connect and invest in the British economy. This year’s event is different – it is a creative experience\, where startups can come to understand and work with other businesses. The event is also a chance for startups to sell their products and to meet with potential investors. \nThe Fund Rising event is one of the most important events in the startup ecosystem\, and it is important that they are able to plan their event accordingly. The event is called the ‘Fruit of the Litter’ and it is supposed to be a time for startups to connect with investors and to learn about the British economy. However\, in recent years\, the event has been seen as a platform for startups to connect with other companies in order to create a product or service. This is not always the case\, and this is why the event is so important – it is a chance for startups to sell their products and to meet with potential investors.
URL:https://fastwpdemo.com/demo/volunteer/event/fund-rising-event-together/
CATEGORIES:Our Events
ATTACH;FMTTYPE=image/jpeg:https://fastwpdemo.com/demo/volunteer/wp-content/uploads/2022/03/news-24.jpg
END:VEVENT
END:VCALENDAR