BEGIN:VCALENDAR
VERSION:2.0
PRODID:-//Volunteer - ECPv6.5.0//NONSGML v1.0//EN
CALSCALE:GREGORIAN
METHOD:PUBLISH
X-ORIGINAL-URL:https://fastwpdemo.com/demo/volunteer
X-WR-CALDESC:Events for Volunteer
REFRESH-INTERVAL;VALUE=DURATION:PT1H
X-Robots-Tag:noindex
X-PUBLISHED-TTL:PT1H
BEGIN:VTIMEZONE
TZID:UTC
BEGIN:STANDARD
TZOFFSETFROM:+0000
TZOFFSETTO:+0000
TZNAME:UTC
DTSTART:20230101T000000
END:STANDARD
END:VTIMEZONE
BEGIN:VEVENT
DTSTART;TZID=UTC:20230102T080000
DTEND;TZID=UTC:20230102T170000
DTSTAMP:20260425T121903
CREATED:20220409T111058Z
LAST-MODIFIED:20230208T103655Z
UID:907-1672646400-1672678800@fastwpdemo.com
SUMMARY:A smile events for our childs
DESCRIPTION:There is a growing trend of people being willing to contribute to a smile fund. This is in response to a number of factors – including the positive experience our children are having. We believe that every person should have the opportunity to contribute to a smile fund\, as it is a symbol of positive feeling and positive emotions.\nThe purpose of this blog is to provide information about how to start and manage a smile fund.
URL:https://fastwpdemo.com/demo/volunteer/event/a-smile-events-for-our-childs/
CATEGORIES:Our Events
ATTACH;FMTTYPE=image/jpeg:https://fastwpdemo.com/demo/volunteer/wp-content/uploads/2022/03/news-25.jpg
END:VEVENT
END:VCALENDAR